BEGIN:VCALENDAR
VERSION:2.0
PRODID:spatie/icalendar-generator
DESCRIPTION:Évènements de 
X-WR-CALDESC:Évènements de 
REFRESH-INTERVAL;VALUE=DURATION:PT1440M
X-PUBLISHED-TTL:PT1440M
BEGIN:VTIMEZONE
TZID:Etc/GMT+0
BEGIN:STANDARD
DTSTART:20241111T193000Z
TZOFFSETFROM:+0000
TZOFFSETTO:+0000
END:STANDARD
END:VTIMEZONE
BEGIN:VTIMEZONE
TZID:UTC
BEGIN:STANDARD
DTSTART:20250725T082754Z
TZOFFSETFROM:+0000
TZOFFSETTO:+0000
END:STANDARD
END:VTIMEZONE
BEGIN:VEVENT
UID:491-27
DTSTAMP:20260421T082754Z
SUMMARY:Office de Vendredi soir
LOCATION:Centre AViv 2 T Rue de la Beauce  MAUREPAS  78310
ORGANIZER;CN=AJME Secrétariat:MAILTO:ajmesecretariat@gmail.com
RRULE:FREQ=WEEKLY;UNTIL=20260327T000000Z
DTSTART;TZID=Etc/GMT+0:20250808T193000
DTEND;TZID=Etc/GMT+0:20250808T203000
X-ALT-DESC;FMTTYPE=TEXT/HTML:Accueil du Shabbat - Kabbalat Shabbat
CATEGORIES:Office Shabbat
URL;VALUE=URI:https://ajme78.fr/mc-events/office-de-vendredi-soir-3/?mc_id=
 491
METHOD:PUBLISH
END:VEVENT
END:VCALENDAR